BEGIN:VCALENDAR
PRODID:-//eluceo/ical//2.0/EN
VERSION:2.0
CALSCALE:GREGORIAN
BEGIN:VEVENT
UID:a63a6591227ae87b00f8abec9446ac80
DTSTAMP:20260420T174150Z
SUMMARY:Washington Institute Program
DESCRIPTION:Jewish Federation of Greater Naples\nCommunity Calendar\nhttps:
 //jewishnaples.org/calendar/washington-institute-program-1731337062\n\nWas
 hington Institute Presentation
DTSTART;TZID=America/New_York:20250128T150000
DTEND;TZID=America/New_York:20250128T170000
END:VEVENT
END:VCALENDAR
