BEGIN:VCALENDAR
PRODID:-//eluceo/ical//2.0/EN
VERSION:2.0
CALSCALE:GREGORIAN
BEGIN:VEVENT
UID:9195e2b5e336664c86432485fb56279e
DTSTAMP:20260419T231913Z
SUMMARY:Vineyards Chanukah Party
DESCRIPTION:Jewish Federation of Greater Naples\nCommunity Calendar\nhttps:
 //jewishnaples.org/calendar/vineyards-chanukah-party-1717682288\n\nFor tho
 se who live in the Vineyards!
DTSTART;TZID=America/New_York:20241230T170000
DTEND;TZID=America/New_York:20241230T190000
END:VEVENT
END:VCALENDAR
