BEGIN:VCALENDAR
PRODID:-//eluceo/ical//2.0/EN
VERSION:2.0
CALSCALE:GREGORIAN
BEGIN:VEVENT
UID:a6a7121f8f7d47affa99d8453a145fb7
DTSTAMP:20260423T004138Z
SUMMARY:Vineyards Chanukah Event
DESCRIPTION:Jewish Federation of Greater Naples\nCommunity Calendar\nhttps:
 //jewishnaples.org/calendar/vineyards-chanukah-event-1675954416\n\nVineyar
 ds Chanukah Event
DTSTART;TZID=America/New_York:20231210T170000
DTEND;TZID=America/New_York:20231210T210000
END:VEVENT
END:VCALENDAR
