BEGIN:VCALENDAR
PRODID:-//eluceo/ical//2.0/EN
VERSION:2.0
CALSCALE:GREGORIAN
BEGIN:VEVENT
UID:c70742090f71216d96e502ff16c09428
DTSTAMP:20260423T124344Z
SUMMARY:Veterans Day
DESCRIPTION:Jewish Federation of Greater Naples\nCommunity Calendar\nhttps:
 //jewishnaples.org/calendar/veterans-day\n\nVeterans Day
DTSTART;TZID=America/New_York:20161111T080000
DTEND;TZID=America/New_York:20161111T235959
END:VEVENT
END:VCALENDAR
