BEGIN:VCALENDAR
PRODID:-//eluceo/ical//2.0/EN
VERSION:2.0
CALSCALE:GREGORIAN
BEGIN:VEVENT
UID:b012658b0e40717510ab95d25cf01a74
DTSTAMP:20260421T013450Z
SUMMARY:HM Vedem Underground in Terezin Special Exhibit
DESCRIPTION:Jewish Federation of Greater Naples\nCommunity Calendar\nhttps:
 //jewishnaples.org/calendar/vedem-underground-in-terezin-special-exhibit-1
 628879525\n\nNew Special Exhibit about Vedem\, the underground publication
  published in Terezin camp by teenaged boys\; in the Estelle and Stuart Pr
 ice Gallery.\n\nThe exhibit is on every Wed/Thurs/Sat/Sun except for Thurs
 day\, Thanksgiving 11/25
DTSTART;TZID=America/New_York:20211102T130000
DTEND;TZID=America/New_York:20220228T160000
END:VEVENT
END:VCALENDAR
