BEGIN:VCALENDAR
PRODID:-//eluceo/ical//2.0/EN
VERSION:2.0
CALSCALE:GREGORIAN
BEGIN:VEVENT
UID:b84ea2a6f909822bf58fa142078ddd58
DTSTAMP:20260420T230056Z
SUMMARY:VE Day Complimentary Admission and Film at Hol Msm
DESCRIPTION:Jewish Federation of Greater Naples\nCommunity Calendar\nhttps:
 //jewishnaples.org/calendar/ve-day-complimentary-admission-and-film-168386
 2688\n\nCommemorating VE Day with Special film and Complimentary Museum Ad
 mission from 1pm-3pm. RSVP required - space is limited.
DTSTART;TZID=America/New_York:20240508T130000
DTEND;TZID=America/New_York:20240508T160000
END:VEVENT
END:VCALENDAR
