BEGIN:VCALENDAR
PRODID:-//eluceo/ical//2.0/EN
VERSION:2.0
CALSCALE:GREGORIAN
BEGIN:VEVENT
UID:6b3b741f6a83b2cd1528adb30a1334e4
DTSTAMP:20260423T134514Z
SUMMARY:Unsolved Jewish Mysteries: Who Killed Chaim Arlosoroff?
DESCRIPTION:Jewish Federation of Greater Naples\nCommunity Calendar\nhttps:
 //jewishnaples.org/calendar/unsolved-jewish-mysteries-who-killed-chaim-arl
 osoroff-1743014924\n\nUnsolved Jewish Mysteries: Who Killed Chaim Arlosoro
 ff?\nThursday\, July 10 at 4:00 PM\, ET\n\nZoom program\n\n$10 per househo
 ld \n\nZionist political leader Chaim Arlosoroff was shot dead on a Tel A
 viv beach on June 16\, 1933. Who killed him? The answer (or lack thereof) 
 includes a rich cast of characters\, from the Nazis to Yitzhak Rabin and B
 enjamin Netanyahu. This Jewish “true crime” mystery reveals the origin
 s of Israel’s left-right divide\, and is essential for understanding pol
 itical...
DTSTART;TZID=America/New_York:20250710T160000
DTEND;TZID=America/New_York:20250710T170000
END:VEVENT
END:VCALENDAR
