BEGIN:VCALENDAR
PRODID:-//eluceo/ical//2.0/EN
VERSION:2.0
CALSCALE:GREGORIAN
BEGIN:VEVENT
UID:45e490c1ba4db2dc7a31fca9fb425780
DTSTAMP:20260423T110926Z
SUMMARY:Unsolved Jewish Mysteries: Where Is King David’s Tomb?
DESCRIPTION:Jewish Federation of Greater Naples\nCommunity Calendar\nhttps:
 //jewishnaples.org/calendar/unsolved-jewish-mysteries-where-is-king-davids
 -tomb-1743014873\n\nUnsolved Jewish Mysteries: Where Is King David’s Tom
 b?\nThursday\, June 26 at 4:00 PM\, ET\n\nZoom Program\n\n$10 per househol
 d\n\n \n\nKing David’s Tomb is the only place in Jerusalem holy to Jews
 \, Christians\, and Muslims. But King David isn’t actually buried there!
  So where is he? And why do we believe he’s there? Take a fascinating di
 ve into ancient archeology\, religious history\, and current conflict that
  will illuminate questions about how sacred space is shared in modern Isra
 el.\n...
DTSTART;TZID=America/New_York:20250626T160000
DTEND;TZID=America/New_York:20250626T170000
END:VEVENT
END:VCALENDAR
