BEGIN:VCALENDAR
PRODID:-//eluceo/ical//2.0/EN
VERSION:2.0
CALSCALE:GREGORIAN
BEGIN:VEVENT
UID:adf0e3e0990009863f45cc616a805f1f
DTSTAMP:20260424T104525Z
SUMMARY:UNO
DESCRIPTION:Jewish Federation of Greater Naples\nCommunity Calendar\nhttps:
 //jewishnaples.org/calendar/uno-1721065035\n\nLet’s play UNO!\nMeet with
  friends enjoy light refreshments & drinks.\n\nMonday\, September 9 from 1
 -3PM\nNina Iser Jewish Cultural Center\n\nPlease register for this free pr
 ogram
DTSTART;TZID=America/New_York:20240909T130000
DTEND;TZID=America/New_York:20240909T150000
END:VEVENT
END:VCALENDAR
