BEGIN:VCALENDAR
PRODID:-//eluceo/ical//2.0/EN
VERSION:2.0
CALSCALE:GREGORIAN
BEGIN:VEVENT
UID:e25f101f7abd7d43a5e97aaa6ec4f393
DTSTAMP:20260422T231822Z
SUMMARY:HDH Understanding Alzheimers and Dementia
DESCRIPTION:Jewish Federation of Greater Naples\nCommunity Calendar\nhttps:
 //jewishnaples.org/calendar/understanding-alzheimers-and-dementia-16166042
 51\n\nHDH Expanding Horizons program with speaker Clarke Pollard
DTSTART;TZID=America/New_York:20210519T223000
DTEND;TZID=America/New_York:20210519T235900
END:VEVENT
END:VCALENDAR
