BEGIN:VCALENDAR
PRODID:-//eluceo/ical//2.0/EN
VERSION:2.0
CALSCALE:GREGORIAN
BEGIN:VEVENT
UID:6caa9030ce6ed2495ceb33d6dcfeb88a
DTSTAMP:20260423T191809Z
SUMMARY:Uncomfortable Conversations\, CJD Program
DESCRIPTION:Jewish Federation of Greater Naples\nCommunity Calendar\nhttps:
 //jewishnaples.org/calendar/uncomfortable-conversations-cjd-program\n\nUnc
 omfortable Conversations with a Catholic and Jew program by CJD\n\nByline:
  Larry Hermalyn and Dick Surrusco\, CJD Committee Members\n\n \n\nUncomfo
 rtable conversations don't only occur around the Thanksgiving table- they 
 occur everyday and everywhere. We live in a time of uncomfortable conversa
 tions- conversations that strike at the core of who we are\, and who we un
 derstand ourselves to be\, walking the planet with those who follow differ
 ent paths.\n\nOur upcoming program- Uncomfortable Con...
DTSTART;TZID=America/New_York:20250126T143000
DTEND;TZID=America/New_York:20250126T153000
END:VEVENT
END:VCALENDAR
