BEGIN:VCALENDAR
PRODID:-//eluceo/ical//2.0/EN
VERSION:2.0
CALSCALE:GREGORIAN
BEGIN:VEVENT
UID:d3533cc3cd76184c5015e246c491ec66
DTSTAMP:20260423T052800Z
SUMMARY:TSP Health-Safety Day & Open House
DESCRIPTION:Jewish Federation of Greater Naples\nCommunity Calendar\nhttps:
 //jewishnaples.org/calendar/tsp-health-safety-day--open-house-1420814437\n
 \nOnce again Temple Shalom Preschool is hosting its annual Health‐Safety
  Day/Open House on Sunday\,  February 15th from 11am to 2pm. This is a ver
 y special activity‐packed day‐long program educating our  young citize
 ns about health and safety within our community. Various community helpers
  come to  present awareness about their individual departments. The childr
 en enjoy seeing fire trucks up close  and personal. They are able to climb
  on board and view fire fighter’s gear and equipment. ...
DTSTART;TZID=America/New_York:20150215T110000
DTEND;TZID=America/New_York:20150215T140000
END:VEVENT
END:VCALENDAR
