BEGIN:VCALENDAR
PRODID:-//eluceo/ical//2.0/EN
VERSION:2.0
CALSCALE:GREGORIAN
BEGIN:VEVENT
UID:d076301619883b1bcdc66a0aebcca510
DTSTAMP:20260421T235127Z
SUMMARY:TS Yom Kippur Afternoon Service
DESCRIPTION:Jewish Federation of Greater Naples\nCommunity Calendar\nhttps:
 //jewishnaples.org/calendar/ts-yom-kippur-afternoon-service-1557777927\n\n
 TS Yom Kippur Afternoon Service
DTSTART;TZID=America/New_York:20191009T153000
DTEND;TZID=America/New_York:20191009T173000
END:VEVENT
END:VCALENDAR
