BEGIN:VCALENDAR
PRODID:-//eluceo/ical//2.0/EN
VERSION:2.0
CALSCALE:GREGORIAN
BEGIN:VEVENT
UID:f8d3ddf90a920cda7603b935eb1e9a93
DTSTAMP:20260423T103704Z
SUMMARY:TS Yizkor Service
DESCRIPTION:Jewish Federation of Greater Naples\nCommunity Calendar\nhttps:
 //jewishnaples.org/calendar/ts-yizkor-service-1557853084\n\nTemple Shalom 
 Yizkor Service
DTSTART;TZID=America/New_York:20200415T100000
DTEND;TZID=America/New_York:20200415T120000
END:VEVENT
END:VCALENDAR
