BEGIN:VCALENDAR
PRODID:-//eluceo/ical//2.0/EN
VERSION:2.0
CALSCALE:GREGORIAN
BEGIN:VEVENT
UID:0e8b398b7d48202d03cfe95ef514e581
DTSTAMP:20260420T131939Z
SUMMARY:TS Wine & cheese "pre-neg"
DESCRIPTION:Jewish Federation of Greater Naples\nCommunity Calendar\nhttps:
 //jewishnaples.org/calendar/ts-wine--cheese-pre-neg-1527793963\n\nJoin us 
 at 5:30pm for a wine & cheese "pre-neg." Shabbat evening service follows a
 t 6pm.
DTSTART;TZID=America/New_York:20180615T173000
DTEND;TZID=America/New_York:20180615T180000
END:VEVENT
END:VCALENDAR
