BEGIN:VCALENDAR
PRODID:-//eluceo/ical//2.0/EN
VERSION:2.0
CALSCALE:GREGORIAN
BEGIN:VEVENT
UID:15ad82111a9c5ba5caa7aaef5c2e70a6
DTSTAMP:20260424T002832Z
SUMMARY:TS Visions Luncheon
DESCRIPTION:Jewish Federation of Greater Naples\nCommunity Calendar\nhttps:
 //jewishnaples.org/calendar/ts-visions-luncheon-1559931872\n\nContact Temp
 le Shalom for more information.
DTSTART;TZID=America/New_York:20191209T120000
DTEND;TZID=America/New_York:20191209T140000
END:VEVENT
END:VCALENDAR
