BEGIN:VCALENDAR
PRODID:-//eluceo/ical//2.0/EN
VERSION:2.0
CALSCALE:GREGORIAN
BEGIN:VEVENT
UID:133fbbc7e23a521d51cd8c20e300e582
DTSTAMP:20260420T141305Z
SUMMARY:TS Veterans Shabbat with Choir
DESCRIPTION:Jewish Federation of Greater Naples\nCommunity Calendar\nhttps:
 //jewishnaples.org/calendar/ts-veterans-shabbat-with-choir-1590073067\n\nV
 eterans Shabbat with Choir
DTSTART;TZID=America/New_York:20201113T193000
DTEND;TZID=America/New_York:20201113T213000
END:VEVENT
END:VCALENDAR
