BEGIN:VCALENDAR
PRODID:-//eluceo/ical//2.0/EN
VERSION:2.0
CALSCALE:GREGORIAN
BEGIN:VEVENT
UID:54c2582b2d4868f5f03f0dcf1c69e353
DTSTAMP:20260420T182432Z
SUMMARY:TS Torah Talk
DESCRIPTION:Jewish Federation of Greater Naples\nCommunity Calendar\nhttps:
 //jewishnaples.org/calendar/ts-torah-talk-1509547372\n\nA lay lead discuss
 ion of the weekly Torah portion. Meet in the conference room at 8:15 am fo
 r bagels\, coffee and juice. The discussion begins at 8:30 am.
DTSTART;TZID=America/New_York:20171202T081500
DTEND;TZID=America/New_York:20171202T100000
END:VEVENT
END:VCALENDAR
