BEGIN:VCALENDAR
PRODID:-//eluceo/ical//2.0/EN
VERSION:2.0
CALSCALE:GREGORIAN
BEGIN:VEVENT
UID:dfc4099fad020dabebb6036e4f6210b5
DTSTAMP:20260423T040719Z
SUMMARY:TS Tashlich
DESCRIPTION:Jewish Federation of Greater Naples\nCommunity Calendar\nhttps:
 //jewishnaples.org/calendar/ts-tashlich-1557772097\n\nTemple Shalom Tashli
 ch
DTSTART;TZID=America/New_York:20190930T160000
DTEND;TZID=America/New_York:20190930T180000
END:VEVENT
END:VCALENDAR
