BEGIN:VCALENDAR
PRODID:-//eluceo/ical//2.0/EN
VERSION:2.0
CALSCALE:GREGORIAN
BEGIN:VEVENT
UID:842f12d0952a74afebddce522669d1ac
DTSTAMP:20260419T210516Z
SUMMARY:TS Sunday School
DESCRIPTION:Jewish Federation of Greater Naples\nCommunity Calendar\nhttps:
 //jewishnaples.org/calendar/ts-sunday-school\n\nSunday school at Temple Sh
 alom\n\n9:00-11:30 am
DTSTART;TZID=America/New_York:20160828T090000
DTEND;TZID=America/New_York:20160828T090000
END:VEVENT
END:VCALENDAR
