BEGIN:VCALENDAR
PRODID:-//eluceo/ical//2.0/EN
VERSION:2.0
CALSCALE:GREGORIAN
BEGIN:VEVENT
UID:8925e5f698ccd18424b79fb6b1ece9d8
DTSTAMP:20260422T083214Z
SUMMARY:TS Sukkot Picnic
DESCRIPTION:Jewish Federation of Greater Naples\nCommunity Calendar\nhttps:
 //jewishnaples.org/calendar/ts-sukkot-picnic-1589994650\n\nSukkot Picnic\n
 4630 Pine Ridge Road\, Naples\, FL 34119
DTSTART;TZID=America/New_York:20201004T113000
DTEND;TZID=America/New_York:20201004T130000
END:VEVENT
END:VCALENDAR
