BEGIN:VCALENDAR
PRODID:-//eluceo/ical//2.0/EN
VERSION:2.0
CALSCALE:GREGORIAN
BEGIN:VEVENT
UID:8abea75152c98c5c3e2d65dad1834f73
DTSTAMP:20260422T212940Z
SUMMARY:TS Sukkot Food Truck
DESCRIPTION:Jewish Federation of Greater Naples\nCommunity Calendar\nhttps:
 //jewishnaples.org/calendar/ts-sukkot-food-truck\n\nTemple Shalom
DTSTART;TZID=America/New_York:20161016T113000
DTEND;TZID=America/New_York:20161016T113000
END:VEVENT
END:VCALENDAR
