BEGIN:VCALENDAR
PRODID:-//eluceo/ical//2.0/EN
VERSION:2.0
CALSCALE:GREGORIAN
BEGIN:VEVENT
UID:603bacd65c7bda34e6e77b322deb8c52
DTSTAMP:20260420T022449Z
SUMMARY:TS Sukkot Fall Festival
DESCRIPTION:Jewish Federation of Greater Naples\nCommunity Calendar\nhttps:
 //jewishnaples.org/calendar/ts-sukkot-fall-festival-1652993503\n\nTemple S
 halom Fall Festival. Please check our website for more information.
DTSTART;TZID=America/New_York:20221009T100000
DTEND;TZID=America/New_York:20221009T130000
END:VEVENT
END:VCALENDAR
