BEGIN:VCALENDAR
PRODID:-//eluceo/ical//2.0/EN
VERSION:2.0
CALSCALE:GREGORIAN
BEGIN:VEVENT
UID:edef5ff771633e2e5ab57a12ebc3e3c5
DTSTAMP:20260422T123841Z
SUMMARY:TS Soulful Shabbat Service
DESCRIPTION:Jewish Federation of Greater Naples\nCommunity Calendar\nhttps:
 //jewishnaples.org/calendar/ts-soulful-shabbat-service-1590169512\n\nSoulf
 ul Shabbat Service
DTSTART;TZID=America/New_York:20210326T193000
DTEND;TZID=America/New_York:20210326T213000
END:VEVENT
END:VCALENDAR
