BEGIN:VCALENDAR
PRODID:-//eluceo/ical//2.0/EN
VERSION:2.0
CALSCALE:GREGORIAN
BEGIN:VEVENT
UID:c4780ba3b1c3ec193279c8d807df5f5a
DTSTAMP:20260423T141536Z
SUMMARY:TS Soulful Shabbat Service
DESCRIPTION:Jewish Federation of Greater Naples\nCommunity Calendar\nhttps:
 //jewishnaples.org/calendar/ts-soulful-shabbat-service-1590162931\n\nSoulf
 ul Shabbat Service
DTSTART;TZID=America/New_York:20210122T193000
DTEND;TZID=America/New_York:20210122T213000
END:VEVENT
END:VCALENDAR
