BEGIN:VCALENDAR
PRODID:-//eluceo/ical//2.0/EN
VERSION:2.0
CALSCALE:GREGORIAN
BEGIN:VEVENT
UID:1b953034a4d953b19ef2e34a9538dd8b
DTSTAMP:20260422T035508Z
SUMMARY:TS Soulful Shabbat Service
DESCRIPTION:Jewish Federation of Greater Naples\nCommunity Calendar\nhttps:
 //jewishnaples.org/calendar/ts-soulful-shabbat-service-1590073005\n\nSoulf
 ul Shabbat
DTSTART;TZID=America/New_York:20201106T193000
DTEND;TZID=America/New_York:20201106T213000
END:VEVENT
END:VCALENDAR
