BEGIN:VCALENDAR
PRODID:-//eluceo/ical//2.0/EN
VERSION:2.0
CALSCALE:GREGORIAN
BEGIN:VEVENT
UID:11890dc7516a31c217fcce7e5c8100db
DTSTAMP:20260422T083132Z
SUMMARY:TS Soulful Shabbat
DESCRIPTION:Jewish Federation of Greater Naples\nCommunity Calendar\nhttps:
 //jewishnaples.org/calendar/ts-soulful-shabbat-1693493843\n\nJoin us for a
  Shabbat evening service conducted entirely in song and accompanied by the
  Temple Band.
DTSTART;TZID=America/New_York:20231103T193000
DTEND;TZID=America/New_York:20231103T210000
END:VEVENT
END:VCALENDAR
