BEGIN:VCALENDAR
PRODID:-//eluceo/ical//2.0/EN
VERSION:2.0
CALSCALE:GREGORIAN
BEGIN:VEVENT
UID:a1a32d6f38089257e91b7879f647eeaa
DTSTAMP:20260424T003018Z
SUMMARY:TS Soulful Shabbat
DESCRIPTION:Jewish Federation of Greater Naples\nCommunity Calendar\nhttps:
 //jewishnaples.org/calendar/ts-soulful-shabbat-1652463921\n\nA special ser
 vice conducted entirely in song and accompanied by a professional band.
DTSTART;TZID=America/New_York:20220610T180000
DTEND;TZID=America/New_York:20220610T190000
END:VEVENT
END:VCALENDAR
