BEGIN:VCALENDAR
PRODID:-//eluceo/ical//2.0/EN
VERSION:2.0
CALSCALE:GREGORIAN
BEGIN:VEVENT
UID:65ddbf8549d646df3b20fbcd75c45a3f
DTSTAMP:20260423T140147Z
SUMMARY:TS Soulful Shabbat
DESCRIPTION:Jewish Federation of Greater Naples\nCommunity Calendar\nhttps:
 //jewishnaples.org/calendar/ts-soulful-shabbat-1525977886\n\nA Shabbat ser
 vice conducted entirely in song\, accompanied by a professional band.
DTSTART;TZID=America/New_York:20190607T193000
DTEND;TZID=America/New_York:20190607T210000
END:VEVENT
END:VCALENDAR
