BEGIN:VCALENDAR
PRODID:-//eluceo/ical//2.0/EN
VERSION:2.0
CALSCALE:GREGORIAN
BEGIN:VEVENT
UID:b81bedb4ad6b7983059118d8fe83f0f0
DTSTAMP:20260420T163821Z
SUMMARY:TS Soulful Shabbat
DESCRIPTION:Jewish Federation of Greater Naples\nCommunity Calendar\nhttps:
 //jewishnaples.org/calendar/ts-soulful-shabbat-1525971227\n\nA Shabbat ser
 vice conducted entirely in song\, accompanied by a professional band.
DTSTART;TZID=America/New_York:20190329T193000
DTEND;TZID=America/New_York:20190329T210000
END:VEVENT
END:VCALENDAR
