BEGIN:VCALENDAR
PRODID:-//eluceo/ical//2.0/EN
VERSION:2.0
CALSCALE:GREGORIAN
BEGIN:VEVENT
UID:4aed70849db292a7a6fdb5f31b5a47b2
DTSTAMP:20260423T122412Z
SUMMARY:TS Soulful Shabbat
DESCRIPTION:Jewish Federation of Greater Naples\nCommunity Calendar\nhttps:
 //jewishnaples.org/calendar/ts-soulful-shabbat-1525970552\n\nA Shabbat ser
 vice conducted entirely in song\, accompanied by a professional band.
DTSTART;TZID=America/New_York:20190222T193000
DTEND;TZID=America/New_York:20190222T210000
END:VEVENT
END:VCALENDAR
