BEGIN:VCALENDAR
PRODID:-//eluceo/ical//2.0/EN
VERSION:2.0
CALSCALE:GREGORIAN
BEGIN:VEVENT
UID:498e2af6781b484dd28b9d036a5bb486
DTSTAMP:20260420T160003Z
SUMMARY:TS Soulful Shabbat
DESCRIPTION:Jewish Federation of Greater Naples\nCommunity Calendar\nhttps:
 //jewishnaples.org/calendar/ts-soulful-shabbat-1525961317\n\nA Shabbat ser
 vice conducted entirely in song\, accompanied by a professional band.
DTSTART;TZID=America/New_York:20190118T193000
DTEND;TZID=America/New_York:20190118T210000
END:VEVENT
END:VCALENDAR
