BEGIN:VCALENDAR
PRODID:-//eluceo/ical//2.0/EN
VERSION:2.0
CALSCALE:GREGORIAN
BEGIN:VEVENT
UID:950ac2564ac46143e1f0a02139a0f848
DTSTAMP:20260424T013747Z
SUMMARY:TS Soulful Shabbat
DESCRIPTION:Jewish Federation of Greater Naples\nCommunity Calendar\nhttps:
 //jewishnaples.org/calendar/ts-soulful-shabbat-1495654106\n\nShabbat in so
 ng with band
DTSTART;TZID=America/New_York:20180420T193000
DTEND;TZID=America/New_York:20180420T210000
END:VEVENT
END:VCALENDAR
