BEGIN:VCALENDAR
PRODID:-//eluceo/ical//2.0/EN
VERSION:2.0
CALSCALE:GREGORIAN
BEGIN:VEVENT
UID:8ea60addcfe6697bac47fd7ff83aef99
DTSTAMP:20260421T112424Z
SUMMARY:TS Sisterhood New Member Wine & Cheese
DESCRIPTION:Jewish Federation of Greater Naples\nCommunity Calendar\nhttps:
 //jewishnaples.org/calendar/ts-sisterhood-new-member-wine--cheese-16527266
 19\n\nWine & cheese event for new members of Temple Shalom Sisterhood.
DTSTART;TZID=America/New_York:20221207T173000
DTEND;TZID=America/New_York:20221207T190000
END:VEVENT
END:VCALENDAR
