BEGIN:VCALENDAR
PRODID:-//eluceo/ical//2.0/EN
VERSION:2.0
CALSCALE:GREGORIAN
BEGIN:VEVENT
UID:f4beebb75413851bf92ac758191434dc
DTSTAMP:20260422T230251Z
SUMMARY:TS Sisterhood Membership Appreciation Event
DESCRIPTION:Jewish Federation of Greater Naples\nCommunity Calendar\nhttps:
 //jewishnaples.org/calendar/ts-sisterhood-membership-appreciation-event-17
 11559473\n\nTemple Shalom Sisterhood Membership Appreciation Event
DTSTART;TZID=America/New_York:20241210T170000
DTEND;TZID=America/New_York:20241210T193000
END:VEVENT
END:VCALENDAR
