BEGIN:VCALENDAR
PRODID:-//eluceo/ical//2.0/EN
VERSION:2.0
CALSCALE:GREGORIAN
BEGIN:VEVENT
UID:8bdc677a4c1ad6b49f314d7f5df6a114
DTSTAMP:20260422T124314Z
SUMMARY:TS Sisterhood Mah Jongg Tournament
DESCRIPTION:Jewish Federation of Greater Naples\nCommunity Calendar\nhttps:
 //jewishnaples.org/calendar/ts-sisterhood-mah-jongg-tournament-1641322293\
 n\nSisterhood Mah Jongg Fundraising Tournament\nFor a sign up form\, pleas
 e visit https://www.naplestemple.org/one-family/sisterhood/
DTSTART;TZID=America/New_York:20220308T083000
DTEND;TZID=America/New_York:20220308T163000
END:VEVENT
END:VCALENDAR
