BEGIN:VCALENDAR
PRODID:-//eluceo/ical//2.0/EN
VERSION:2.0
CALSCALE:GREGORIAN
BEGIN:VEVENT
UID:3e5e19be3f6f59a7c1b36b80a89fa59d
DTSTAMP:20260422T213848Z
SUMMARY:TS Sisterhood Luncheon
DESCRIPTION:Jewish Federation of Greater Naples\nCommunity Calendar\nhttps:
 //jewishnaples.org/calendar/ts-sisterhood-luncheon-1751555943\n\nEnjoy lun
 ch with your Sisterhood friends and get the “inside scoop” of what is 
 happening at Artis Naples from David Filner\, Executive Vice President of 
 Artistic Operations.
DTSTART;TZID=America/New_York:20251021T113000
DTEND;TZID=America/New_York:20251021T130000
END:VEVENT
END:VCALENDAR
