BEGIN:VCALENDAR
PRODID:-//eluceo/ical//2.0/EN
VERSION:2.0
CALSCALE:GREGORIAN
BEGIN:VEVENT
UID:b8e1706b9da5ce67f4c2b55b271d84f2
DTSTAMP:20260424T054526Z
SUMMARY:TS Sisterhood Luncheon
DESCRIPTION:Jewish Federation of Greater Naples\nCommunity Calendar\nhttps:
 //jewishnaples.org/calendar/ts-sisterhood-luncheon-1557848945\n\nTS Sister
 hood Luncheon
DTSTART;TZID=America/New_York:20200211T113000
DTEND;TZID=America/New_York:20200211T133000
END:VEVENT
END:VCALENDAR
