BEGIN:VCALENDAR
PRODID:-//eluceo/ical//2.0/EN
VERSION:2.0
CALSCALE:GREGORIAN
BEGIN:VEVENT
UID:60be15d6ace285b8e908f35e5249462f
DTSTAMP:20260422T073534Z
SUMMARY:TS Sisterhood luncheon
DESCRIPTION:Jewish Federation of Greater Naples\nCommunity Calendar\nhttps:
 //jewishnaples.org/calendar/ts-sisterhood-luncheon-1525960386\n\nMonthly S
 isterhood luncheon with guest speaker. There is a cost to attend. Please c
 ontact Temple Shalom for more information.
DTSTART;TZID=America/New_York:20181009T113000
DTEND;TZID=America/New_York:20181009T130000
END:VEVENT
END:VCALENDAR
