BEGIN:VCALENDAR
PRODID:-//eluceo/ical//2.0/EN
VERSION:2.0
CALSCALE:GREGORIAN
BEGIN:VEVENT
UID:23f72e49166468be1d894f0e765bac04
DTSTAMP:20260420T123002Z
SUMMARY:TS Sisterhood Fashion Show & Luncheon
DESCRIPTION:Jewish Federation of Greater Naples\nCommunity Calendar\nhttps:
 //jewishnaples.org/calendar/ts-sisterhood-fashion-show--luncheon-164133270
 9\n\nTS Sisterhood Fashion Show & Luncheon
DTSTART;TZID=America/New_York:20220405T113000
DTEND;TZID=America/New_York:20220405T133000
END:VEVENT
END:VCALENDAR
