BEGIN:VCALENDAR
PRODID:-//eluceo/ical//2.0/EN
VERSION:2.0
CALSCALE:GREGORIAN
BEGIN:VEVENT
UID:0f7d887858d393b93ea303b3837e3b32
DTSTAMP:20260421T013226Z
SUMMARY:TS Sisterhood Canasta Tournament
DESCRIPTION:Jewish Federation of Greater Naples\nCommunity Calendar\nhttps:
 //jewishnaples.org/calendar/ts-sisterhood-canasta-tournament\n\nTemple Sha
 lom Sisterhood\n\nCanasta Tournament\n\n11-3:30 pm
DTSTART;TZID=America/New_York:20210309T110000
DTEND;TZID=America/New_York:20210309T153000
END:VEVENT
END:VCALENDAR
