BEGIN:VCALENDAR
PRODID:-//eluceo/ical//2.0/EN
VERSION:2.0
CALSCALE:GREGORIAN
BEGIN:VEVENT
UID:69b98510415c08cdcc74a81c90fc9ad0
DTSTAMP:20260420T164258Z
SUMMARY:TS Sisterhood Book Bag
DESCRIPTION:Jewish Federation of Greater Naples\nCommunity Calendar\nhttps:
 //jewishnaples.org/calendar/ts-sisterhood-book-bag-1525959775\n\nDiscussio
 n of the monthly book selection.
DTSTART;TZID=America/New_York:20181018T133000
DTEND;TZID=America/New_York:20181018T150000
END:VEVENT
END:VCALENDAR
