BEGIN:VCALENDAR
PRODID:-//eluceo/ical//2.0/EN
VERSION:2.0
CALSCALE:GREGORIAN
BEGIN:VEVENT
UID:d352817beda59d108d2c13da9dd7cef2
DTSTAMP:20260422T010656Z
SUMMARY:TS Sisterhood Book Bag
DESCRIPTION:Jewish Federation of Greater Naples\nCommunity Calendar\nhttps:
 //jewishnaples.org/calendar/ts-sisterhood-book-bag\n\nTemple Shalom Sister
 hood Book Bag\n\n3rd Thursday of the month\n\n1:30 pm
DTSTART;TZID=America/New_York:20161020T133000
DTEND;TZID=America/New_York:20161020T133000
END:VEVENT
END:VCALENDAR
