BEGIN:VCALENDAR
PRODID:-//eluceo/ical//2.0/EN
VERSION:2.0
CALSCALE:GREGORIAN
BEGIN:VEVENT
UID:64c76c85c09e53b31b4c01f9d6dc50f7
DTSTAMP:20260422T022654Z
SUMMARY:TS Sisterhood Board Meeting
DESCRIPTION:Jewish Federation of Greater Naples\nCommunity Calendar\nhttps:
 //jewishnaples.org/calendar/ts-sisterhood-board-meeting-1557848827\n\nTS S
 isterhood Board Meeting
DTSTART;TZID=America/New_York:20200204T100000
DTEND;TZID=America/New_York:20200204T120000
END:VEVENT
END:VCALENDAR
