BEGIN:VCALENDAR
PRODID:-//eluceo/ical//2.0/EN
VERSION:2.0
CALSCALE:GREGORIAN
BEGIN:VEVENT
UID:32053c47d7f562cb99423e95b0697e30
DTSTAMP:20260422T011339Z
SUMMARY:TS Sisterhood Board Meeting
DESCRIPTION:Jewish Federation of Greater Naples\nCommunity Calendar\nhttps:
 //jewishnaples.org/calendar/ts-sisterhood-board-meeting-1557847610\n\nTS S
 isterhood Board Meeting
DTSTART;TZID=America/New_York:20200107T100000
DTEND;TZID=America/New_York:20200107T120000
END:VEVENT
END:VCALENDAR
