BEGIN:VCALENDAR
PRODID:-//eluceo/ical//2.0/EN
VERSION:2.0
CALSCALE:GREGORIAN
BEGIN:VEVENT
UID:abb8443004094252c6c7f3c84bd37527
DTSTAMP:20260420T104231Z
SUMMARY:TS Sisterhood Baker Museum Tour
DESCRIPTION:Jewish Federation of Greater Naples\nCommunity Calendar\nhttps:
 //jewishnaples.org/calendar/ts-sisterhood-baker-museum-tour-1696865356\n\n
 Gershwin Exhibit
DTSTART;TZID=America/New_York:20240223T100000
DTEND;TZID=America/New_York:20240223T120000
END:VEVENT
END:VCALENDAR
