BEGIN:VCALENDAR
PRODID:-//eluceo/ical//2.0/EN
VERSION:2.0
CALSCALE:GREGORIAN
BEGIN:VEVENT
UID:8d8674b7ec95cbf480c2fc93a9d6d669
DTSTAMP:20260422T082558Z
SUMMARY:TS Simchat Torah Celebration
DESCRIPTION:Jewish Federation of Greater Naples\nCommunity Calendar\nhttps:
 //jewishnaples.org/calendar/ts-simchat-torah-celebration-1617287427\n\nSim
 chat Torah Celebration
DTSTART;TZID=America/New_York:20210926T103000
DTEND;TZID=America/New_York:20210926T120000
END:VEVENT
END:VCALENDAR
