BEGIN:VCALENDAR
PRODID:-//eluceo/ical//2.0/EN
VERSION:2.0
CALSCALE:GREGORIAN
BEGIN:VEVENT
UID:ca4df48fcc928b5fc9abc498b6bad8b9
DTSTAMP:20260423T120247Z
SUMMARY:TS Simchat Torah
DESCRIPTION:Jewish Federation of Greater Naples\nCommunity Calendar\nhttps:
 //jewishnaples.org/calendar/ts-simchat-torah\n\nTemple Shalom
DTSTART;TZID=America/New_York:20161023T103000
DTEND;TZID=America/New_York:20161023T103000
END:VEVENT
END:VCALENDAR
