BEGIN:VCALENDAR
PRODID:-//eluceo/ical//2.0/EN
VERSION:2.0
CALSCALE:GREGORIAN
BEGIN:VEVENT
UID:d413b4619a78f6132aa088b608602163
DTSTAMP:20260422T121005Z
SUMMARY:TS Shabbat with Scholar-in-Residence
DESCRIPTION:Jewish Federation of Greater Naples\nCommunity Calendar\nhttps:
 //jewishnaples.org/calendar/ts-shabbat-with-scholar-in-residence-164634230
 5\n\nScholar-in-Residence\, Rabbi Norman Cohen\, joins us for a weekend of
  learning. "Moses as Every Person: What the Bible Can Teach Us About Our O
 wn Struggles as Human Beings.\n\nOn Friday evening Rabbi Cohen discusses "
 Moses' Struggle With His Own Self-Doubts: Confronting Our Own Demons"
DTSTART;TZID=America/New_York:20220429T193000
DTEND;TZID=America/New_York:20220429T213000
END:VEVENT
END:VCALENDAR
