BEGIN:VCALENDAR
PRODID:-//eluceo/ical//2.0/EN
VERSION:2.0
CALSCALE:GREGORIAN
BEGIN:VEVENT
UID:b4ff216476d564519ce0aa2dfa91fcfc
DTSTAMP:20260423T214850Z
SUMMARY:TS Shabbat Service
DESCRIPTION:Jewish Federation of Greater Naples\nCommunity Calendar\nhttps:
 //jewishnaples.org/calendar/ts-shabbat-service-1590169454\n\nShabbat Servi
 ce
DTSTART;TZID=America/New_York:20210305T193000
DTEND;TZID=America/New_York:20210305T213000
END:VEVENT
END:VCALENDAR
